BEGIN:VCALENDAR
VERSION:2.0
PRODID:icalendar-ruby
CALSCALE:GREGORIAN
METHOD:PUBLISH
BEGIN:VEVENT
DTSTAMP:20260423T054242Z
UID:7-1811158@rbcor.org
DTSTART:20261007T220000Z
DTEND:20261007T230000Z
CLASS:PUBLIC
CREATED:20260422T220800
DESCRIPTION:Fusion
LAST-MODIFIED:20260422T220800
LOCATION:Youth Room-1st Floor
SUMMARY:Fusion
URL;VALUE=URI:https://www.rbcor.org/events/fusion/2026-10-07
ATTACH;FILENAME=New-Fusion-Logo-3.gif;FMTTYPE=image/gif:https://dq5pwpg1q8r
 u0.cloudfront.net/2022/07/25/12/34/09/bf2af616-3f59-47ac-8f29-be9aafc042ba
 /New-Fusion-Logo-3.gif
END:VEVENT
END:VCALENDAR
